BEGIN:VCALENDAR
VERSION:2.0
PRODID:https://www.kufer.de/kuferweb / DE
METHOD:PUBLISH
CALSCALE:GREGORIAN
X-WR-TIMEZONE:Europe/Berlin
BEGIN:VTIMEZONE
TZID:Europe/Berlin
X-LIC-LOCATION:Europe/Berlin
BEGIN:DAYLIGHT
TZOFFSETFROM:+0100
TZOFFSETTO:+0200
TZNAME:CEST
DTSTART:19700329T020000
RRULE:FREQ=YEARLY;INTERVAL=1;BYDAY=-1SU;BYMONTH=3
END:DAYLIGHT
BEGIN:STANDARD
TZOFFSETFROM:+0200
TZOFFSETTO:+0100
TZNAME:CET
DTSTART:19701025T030000
RRULE:FREQ=YEARLY;INTERVAL=1;BYDAY=-1SU;BYMONTH=10
END:STANDARD
END:VTIMEZONE
BEGIN:VEVENT
DTSTAMP:20260422T023926
DTSTART;TZID=Europe/Berlin:20260702T123000
DTEND;TZID=Europe/Berlin:20260702T164500
UID:262-A019-20260702T123000@QUELL BILDUNGSKONZEPTE GMBH
SUMMARY:ADR Aufbaukurs Tank (262-A019) 
LOCATION:Stresemannstr. 50, 27570 Bremerhaven, Raum 1, Stresemannstr. 50, 27570 Bremerhaven 
END:VEVENT
BEGIN:VEVENT
DTSTAMP:20260422T023926
DTSTART;TZID=Europe/Berlin:20260703T080000
DTEND;TZID=Europe/Berlin:20260703T144500
UID:262-A019-20260703T080000@QUELL BILDUNGSKONZEPTE GMBH
SUMMARY:ADR Aufbaukurs Tank (262-A019) 
LOCATION:Stresemannstr. 50, 27570 Bremerhaven, Raum 1, Stresemannstr. 50, 27570 Bremerhaven 
END:VEVENT
BEGIN:VEVENT
DTSTAMP:20260422T023926
DTSTART;TZID=Europe/Berlin:20260703T150000
DTEND;TZID=Europe/Berlin:20260703T154500
UID:262-A019-20260703T150000@QUELL BILDUNGSKONZEPTE GMBH
SUMMARY:ADR Aufbaukurs Tank (262-A019) 
LOCATION:Stresemannstr. 50, 27570 Bremerhaven, Raum 1, Stresemannstr. 50, 27570 Bremerhaven 
END:VEVENT
END:VCALENDAR